BEGIN:VCALENDAR
VERSION:2.0
PRODID:-//Degusta - ECPv6.6.0.1//NONSGML v1.0//EN
CALSCALE:GREGORIAN
METHOD:PUBLISH
X-ORIGINAL-URL:https://degustariooficial.com.br
X-WR-CALDESC:Eventos para Degusta
REFRESH-INTERVAL;VALUE=DURATION:PT1H
X-Robots-Tag:noindex
X-PUBLISHED-TTL:PT1H
BEGIN:VTIMEZONE
TZID:America/Sao_Paulo
BEGIN:STANDARD
TZOFFSETFROM:-0300
TZOFFSETTO:-0300
TZNAME:-03
DTSTART:20230101T000000
END:STANDARD
END:VTIMEZONE
BEGIN:VEVENT
DTSTART;TZID=America/Sao_Paulo:20230428T173000
DTEND;TZID=America/Sao_Paulo:20230501T220000
DTSTAMP:20260412T202245
CREATED:20230414T200024Z
LAST-MODIFIED:20230414T222523Z
UID:6375-1682703000-1682978400@degustariooficial.com.br
SUMMARY:Degusta Botafogo
DESCRIPTION:Depois de 3 anos de sucesso na Tijuca com o melhor da gastronomia carioca\, em março deste ano\, o Degusta realizou sua primeira edição em Copacabana\, foi o maior evento de todos já realizados. Agora o Degusta chega a Botafogo dando continuidade ao circuito. 						\n				\n					\n		\n					\n		\n				\n						\n					\n			\n						\n				\n							Em breve mais informações\, aguarde. 						\n				\n					\n		\n					\n		\n				\n						\n					\n			\n						\n				\n							. 						\n				\n					\n		\n					\n		\n				\n						\n					\n			\n						\n				\n							“O sucesso das três edições do Degusta Tijuca serviu de base para o projeto se tornar itinerante. Temos programados 10 eventos em diversos bairros da cidade\, que além de levar boa comida e diversão aos bairros\, temos o objetivo de fomentar o setor de bares e restaurantes a a cultura local”\, completa Otto Grunewald\, idealizador do projeto. 						\n				\n					\n		\n					\n		\n				\n						\n					\n			\n						\n				\n							  Serviço:Rua Humaitá – Botafogo (Atrás do estacionamento da Cobal)Horário: 28 de abril (Sexta-feira): 17h as 22h29 (Sábado): 12h as 22h30 (Domingo): 12h as 22h01 de Maio (Segunda-feira feriado): 12h as 22 						\n				\n					\n		\n					\n		\n				\n						\n					\n			\n						\n						\n					\n			\n						\n				\n																										\n				\n					\n		\n				\n			\n						\n				\n			Otto Grunewald		\n				\n				\n				\n			Idealizador & Realizador		\n				\n				\n				\n			"O sucesso das três edições do Degusta Tijuca serviu de base para o projeto se tornar itinerante. Temos programados 10 eventos em diversos bairros da cidade\, que além de levar boa comida e diversão aos bairros\, temos o objetivo de fomentar o setor de bares e restaurantes a a cultura local"\, completa Otto Grunewald\, idealizador do projeto.
URL:https://degustariooficial.com.br/evento/degusta-botafogo/
LOCATION:Rua Humaitá\, 25 – Botafogo\, Rua Humaitá\, 25 - Botafogo\, Rio de Janeiro\, Rio de Janeiro\, 22270-010\, Brasil
CATEGORIES:Event Calendar,Presencial
ATTACH;FMTTYPE=image/png:https://degustariooficial.com.br/wp-content/uploads/CHAMADA-02.png
END:VEVENT
BEGIN:VEVENT
DTSTART;TZID=America/Sao_Paulo:20230309T173000
DTEND;TZID=America/Sao_Paulo:20230312T220000
DTSTAMP:20260412T202245
CREATED:20230302T145739Z
LAST-MODIFIED:20230308T004348Z
UID:4808-1678383000-1678658400@degustariooficial.com.br
SUMMARY:Campeonato de Caipirinha
DESCRIPTION:Depois de 3 anos de sucesso na Tijuca com o melhor da gastronomia carioca\, em março deste ano\, o Degusta realizou sua primeira edição em Copacabana\, foi o maior evento de todos já realizados. Agora o Degusta chega a Botafogo dando continuidade ao circuito. 						\n				\n					\n		\n					\n		\n				\n						\n					\n			\n						\n				\n							Em breve mais informações\, aguarde. 						\n				\n					\n		\n					\n		\n				\n						\n					\n			\n						\n				\n							. 						\n				\n					\n		\n					\n		\n				\n						\n					\n			\n						\n				\n							“O sucesso das três edições do Degusta Tijuca serviu de base para o projeto se tornar itinerante. Temos programados 10 eventos em diversos bairros da cidade\, que além de levar boa comida e diversão aos bairros\, temos o objetivo de fomentar o setor de bares e restaurantes a a cultura local”\, completa Otto Grunewald\, idealizador do projeto. 						\n				\n					\n		\n					\n		\n				\n						\n					\n			\n						\n				\n							  Serviço:Rua Humaitá – Botafogo (Atrás do estacionamento da Cobal)Horário: 28 de abril (Sexta-feira): 17h as 22h29 (Sábado): 12h as 22h30 (Domingo): 12h as 22h01 de Maio (Segunda-feira feriado): 12h as 22 						\n				\n					\n		\n					\n		\n				\n						\n					\n			\n						\n						\n					\n			\n						\n				\n																										\n				\n					\n		\n				\n			\n						\n				\n			Otto Grunewald		\n				\n				\n				\n			Idealizador & Realizador		\n				\n				\n				\n			"O sucesso das três edições do Degusta Tijuca serviu de base para o projeto se tornar itinerante. Temos programados 10 eventos em diversos bairros da cidade\, que além de levar boa comida e diversão aos bairros\, temos o objetivo de fomentar o setor de bares e restaurantes a a cultura local"\, completa Otto Grunewald\, idealizador do projeto.
URL:https://degustariooficial.com.br/evento/campeonato-de-caipirinha/
LOCATION:Praça do Lido\, Praça do Lido\, Copacabana\, Rio de Janeiro\, Rio de Janeiro\, 22021-000
CATEGORIES:Event Calendar
ATTACH;FMTTYPE=image/jpeg:https://degustariooficial.com.br/wp-content/uploads/capa-evento-campeonato-caipirinha-degusta-copacabana.jpg
END:VEVENT
BEGIN:VEVENT
DTSTART;TZID=America/Sao_Paulo:20230309T173000
DTEND;TZID=America/Sao_Paulo:20230312T220000
DTSTAMP:20260412T202245
CREATED:20220327T150939Z
LAST-MODIFIED:20230308T004557Z
UID:1034-1678383000-1678658400@degustariooficial.com.br
SUMMARY:Degusta Copacabana
DESCRIPTION:Depois de 3 anos de sucesso na Tijuca com o melhor da gastronomia carioca\, em março deste ano\, o Degusta realizou sua primeira edição em Copacabana\, foi o maior evento de todos já realizados. Agora o Degusta chega a Botafogo dando continuidade ao circuito. 						\n				\n					\n		\n					\n		\n				\n						\n					\n			\n						\n				\n							Em breve mais informações\, aguarde. 						\n				\n					\n		\n					\n		\n				\n						\n					\n			\n						\n				\n							. 						\n				\n					\n		\n					\n		\n				\n						\n					\n			\n						\n				\n							“O sucesso das três edições do Degusta Tijuca serviu de base para o projeto se tornar itinerante. Temos programados 10 eventos em diversos bairros da cidade\, que além de levar boa comida e diversão aos bairros\, temos o objetivo de fomentar o setor de bares e restaurantes a a cultura local”\, completa Otto Grunewald\, idealizador do projeto. 						\n				\n					\n		\n					\n		\n				\n						\n					\n			\n						\n				\n							  Serviço:Rua Humaitá – Botafogo (Atrás do estacionamento da Cobal)Horário: 28 de abril (Sexta-feira): 17h as 22h29 (Sábado): 12h as 22h30 (Domingo): 12h as 22h01 de Maio (Segunda-feira feriado): 12h as 22 						\n				\n					\n		\n					\n		\n				\n						\n					\n			\n						\n						\n					\n			\n						\n				\n																										\n				\n					\n		\n				\n			\n						\n				\n			Otto Grunewald		\n				\n				\n				\n			Idealizador & Realizador		\n				\n				\n				\n			"O sucesso das três edições do Degusta Tijuca serviu de base para o projeto se tornar itinerante. Temos programados 10 eventos em diversos bairros da cidade\, que além de levar boa comida e diversão aos bairros\, temos o objetivo de fomentar o setor de bares e restaurantes a a cultura local"\, completa Otto Grunewald\, idealizador do projeto.
URL:https://degustariooficial.com.br/evento/degusta-copacabana/
LOCATION:Praça do Lido\, Praça do Lido\, Copacabana\, Rio de Janeiro\, Rio de Janeiro\, 22021-000
CATEGORIES:Event Calendar
ATTACH;FMTTYPE=image/jpeg:https://degustariooficial.com.br/wp-content/uploads/capa-evento-degusta-copacabana.jpg
END:VEVENT
END:VCALENDAR